BEGIN:VCALENDAR
VERSION:2.0
PRODID:-//ChamberMaster//Event Calendar 2.0//EN
METHOD:PUBLISH
X-PUBLISHED-TTL:P3D
REFRESH-INTERVAL:P3D
CALSCALE:GREGORIAN
BEGIN:VEVENT
DTSTART:20260606T190000Z
DTEND:20260606T233000Z
X-MICROSOFT-CDO-ALLDAYEVENT:FALSE
SUMMARY:16th Annual Race Against Poverty
DESCRIPTION:The 16th Annual "Sweet 16" Race Against Poverty Moves to a New Day\n\nChambersburg\, PA.  South Central Community Action Program (SCCAP) is excited to announce that the 16th Annual Race Against Poverty\, affectionately known as the "Sweet 16\," will take place on a new day this year. The event is scheduled for Saturday\, June 6\, 2026\, offering a refreshed schedule designed to be more family-friendly while keeping the elements participants know and love.\n\nRace Central will remain at the same location\, and the 5K course will stay the same\, ensuring a familiar and enjoyable experience for returning runners and walkers. To better accommodate families and participants of all ages\, events will begin earlier in the day. Race Central will open at 3:00 p.m. and remain open until 7:30 p.m.\, creating a lively community hub featuring music\, food vendors\, activities\, retail and information booths\, and more.\n\nFamily-focused events kick off at 4:00 p.m. with the Raber Runs for Kids 1-Miler and Dash\, offering young runners and their families an opportunity to take part in the fun and support a great cause. The 5K Race Against Poverty will follow at 5:00 p.m.\n\nNow in its 16th year\, the Race Against Poverty continues to unite runners\, walkers\, families\, businesses\, and community partners in support of SCCAP's mission to reduce poverty and strengthen families. Proceeds from the race directly support SCCAP's critical Support Circles program.\n\nWhile the day and timing may be new\, the purpose remains the same bringing the community together to build a stronger future for all.\n\nRegistration for the 16th Annual Race Against Poverty will open on January 15. For more information\, registration details\, and event updates\, visit www.raceagainstpoverty.org. Those interested in sponsoring the event or volunteering the day off are encouraged to contact Cheryl Brown\, SCCAP's Resource Development Director\, at cbrown@sccap.org
X-ALT-DESC;FMTTYPE=text/html:<strong>The 16th Annual &ldquo\;Sweet 16&rdquo\; Race Against Poverty Moves to a New Day</strong><br />\n<strong>Chambersburg\, PA.&nbsp\; </strong>South Central Community Action Program (SCCAP) is excited to announce that the <strong>16th Annual Race Against Poverty</strong>\, affectionately known as the <strong>&ldquo\;Sweet 16\,&rdquo\;</strong> will take place on a <strong>new day</strong> this year. The event is scheduled for <strong>Saturday\, June 6\, 2026</strong>\, offering a refreshed schedule designed to be more family-friendly while keeping the elements participants know and love.<br />\n<strong>Race Central will remain at the same location</strong>\, and the <strong>5K course will stay the same</strong>\, ensuring a familiar and enjoyable experience for returning runners and walkers. To better accommodate families and participants of all ages\, events will begin earlier in the day. <strong>Race Central will open at 3:00 p.m. and remain open until 7:30 p.m.</strong>\, creating a lively community hub featuring <strong>music\, food vendors\, activities\, retail and information booths</strong>\, and more.<br />\nFamily-focused events kick off at <strong>4:00 p.m.</strong> with the <strong>Raber Runs for Kids 1-Miler and Dash</strong>\, offering young runners and their families an opportunity to take part in the fun and support a great cause. The <strong>5K Race Against Poverty</strong> will follow at <strong>5:00 p.m.</strong><br />\nNow in its 16th year\, the Race Against Poverty continues to unite runners\, walkers\, families\, businesses\, and community partners in support of SCCAP&rsquo\;s mission to reduce poverty and strengthen families. Proceeds from the race directly support SCCAP&rsquo\;s critical Support Circles program.<br />\nWhile the day and timing may be new\, the purpose remains the same&mdash\;<strong>bringing the community together to build a stronger future for all</strong>.<br />\n<strong>Registration for the 16th Annual Race Against Poverty will open on January 15.</strong> For more information\, registration details\, and event updates\, visit <a href="http://www.raceagainstpoverty.org" target="_new"><strong>www.raceagainstpoverty.org</strong></a>. Those interested in <strong>sponsoring the event or volunteering the day off</strong> are encouraged to contact <strong>Cheryl Brown\, SCCAP&rsquo\;s Resource Development Director</strong>\, at <a href="mailto:cbrown@sccap.org">cbrown@sccap.org</a><br />\n&nbsp\;
LOCATION:Downtown Chambersburg - Rail Trail - Hood Street Parking Lot
UID:e.1180.42351
SEQUENCE:3
DTSTAMP:20260424T100543Z
URL:https://business.cvballiance.org/events/details/16th-annual-race-against-poverty-42351
END:VEVENT

END:VCALENDAR
