BEGIN:VCALENDAR
VERSION:2.0
PRODID:-//ChamberMaster//Event Calendar 2.0//EN
METHOD:PUBLISH
X-PUBLISHED-TTL:P3D
REFRESH-INTERVAL:P3D
CALSCALE:GREGORIAN
BEGIN:VEVENT
DTSTART;VALUE=DATE:20260612
DTEND;VALUE=DATE:20260613
TRANSP:TRANSPARENT
X-MICROSOFT-CDO-ALLDAYEVENT:TRUE
SUMMARY:2026 CVBA Economic Bus Tour
DESCRIPTION:Economic Bus Tour a Members only event.
X-ALT-DESC;FMTTYPE=text/html:Economic Bus Tour a Members only event.&nbsp\;&nbsp\;
LOCATION:various
UID:e.1180.42440
SEQUENCE:3
DTSTAMP:20260424T124549Z
URL:https://business.cvballiance.org/events/details/2026-cvba-economic-bus-tour-42440
END:VEVENT

END:VCALENDAR
