BEGIN:VCALENDAR
VERSION:2.0
PRODID:-//ChamberMaster//Event Calendar 2.0//EN
METHOD:PUBLISH
X-PUBLISHED-TTL:P3D
REFRESH-INTERVAL:P3D
CALSCALE:GREGORIAN
BEGIN:VEVENT
DTSTART;VALUE=DATE:20260711
DTEND;VALUE=DATE:20260719
TRANSP:TRANSPARENT
X-MICROSOFT-CDO-ALLDAYEVENT:TRUE
SUMMARY:40th Annual ChambersFest
DESCRIPTION:Chambersburg comes alive July 11 - 18 as ChambersFest 2026 brings a full week of energy\, tradition\, and community pride to the heart of downtown. From crowd favorites like Restaurant Week and Old Market Day to signature experiences including the Burning of Chambersburg\, A Cappella & Unplugged\, Scoop a Palooza\, the North Square Farmers Market\, and the Tim and Susan Cook Race\, there is something happening around every corner.\n\nRooted in the story of resilience following the town's destruction in 1864\, ChambersFest has grown into a celebration of everything that makes this community strong today. Make plans to be part of it and experience downtown Chambersburg at its very best.\n\n\nChambersFest is coordinated by multiple community organizations including: Chambersburg Chamber\, Franklin County Visitors Bureau\, Greater Chambersburg Chamber Foundation\, Downtown Business Council\, North Square Farmers Market\, Franklin County Historical Society and others.
X-ALT-DESC;FMTTYPE=text/html:<p data-end="433" data-start="0"><span style="font-size:14px\;"><span style="font-family:arial\;">Chambersburg comes alive July 11 -&nbsp\;18 as ChambersFest 2026 brings a full week of energy\, tradition\, and community pride to the heart of downtown. From crowd favorites like Restaurant Week and Old Market Day to signature experiences including the Burning of Chambersburg\, A Cappella &amp\; Unplugged\, Scoop a Palooza\, the North Square Farmers Market\, and the Tim and Susan Cook Race\, there is something happening around every corner.</span></span></p>\n\n<p data-end="689" data-is-last-node="" data-is-only-node="" data-start="435"><span style="font-size:14px\;"><span style="font-family:arial\;">Rooted in the story of resilience following the town&rsquo\;s destruction in 1864\, ChambersFest has grown into a celebration of everything that makes this community strong today. Make plans to be part of it and experience downtown Chambersburg at its very best.</span></span></p>\n<br />\n<span style="font-size:14px\;"><span style="font-family:arial\;"><span style="color: rgb(85\, 85\, 85)\;">ChambersFest is coordinated by multiple community organizations including: Chambersburg Chamber\, Franklin County Visitors Bureau\, Greater Chambersburg Chamber Foundation\, Downtown Business Council\, North Square Farmers Market\, Franklin County Historical Society and others.</span></span></span>
LOCATION:Throughout Chambersburg\, PA
UID:e.1180.42613
SEQUENCE:3
DTSTAMP:20260424T134038Z
URL:https://business.cvballiance.org/events/details/40th-annual-chambersfest-42613
END:VEVENT

END:VCALENDAR
