BEGIN:VCALENDAR
VERSION:2.0
PRODID:-//ChamberMaster//Event Calendar 2.0//EN
METHOD:PUBLISH
X-PUBLISHED-TTL:P3D
REFRESH-INTERVAL:P3D
CALSCALE:GREGORIAN
BEGIN:VEVENT
DTSTART:20251122T142000Z
DTEND:20251122T160000Z
X-MICROSOFT-CDO-ALLDAYEVENT:FALSE
SUMMARY:40th Annual Greencastle Christmas Parade
DESCRIPTION:VerStandig Media & Antrim Way Honda cordially invites you to come to downtown Greencastle for the 40th Annual Greencastle Christmas Parade!  The parade begins promptly at 9:21 a.m. on Saturday\, November 22nd.
X-ALT-DESC;FMTTYPE=text/html:<span style="font-family:arial\;"><span style="font-size:16px\;"><span style="color:#006400\;"><strong><span style="text-align: center\; background-color: rgb(255\, 255\, 255)\;"><a href="https://verstandig.com/">VerStandig Media</a> &amp\; <a href="https://www.antrimhonda.com/">Antrim Way Honda </a>cordially invites you to come to downtown Greencastle for the 40th Annual Greencastle Christmas Parade!&nbsp\; The parade begins promptly at 9:21 a.m. on Saturday\, November 22nd.</span></strong></span></span></span>
LOCATION:Downtown Greencastle The Christmas Parade route begins at the Besore Library on East Baltimore Street and ends at the American Legion on South Carlisle Street.
UID:e.1180.41359
SEQUENCE:3
DTSTAMP:20260426T024254Z
URL:https://business.cvballiance.org/events/details/40th-annual-greencastle-christmas-parade-41359
END:VEVENT

END:VCALENDAR
