BEGIN:VCALENDAR
VERSION:2.0
PRODID:-//ChamberMaster//Event Calendar 2.0//EN
METHOD:PUBLISH
X-PUBLISHED-TTL:P3D
REFRESH-INTERVAL:P3D
CALSCALE:GREGORIAN
BEGIN:VEVENT
DTSTART:20160504T160000Z
DTEND:20160504T180000Z
X-MICROSOFT-CDO-ALLDAYEVENT:FALSE
SUMMARY:Accessing Capital for Small Business
DESCRIPTION:CANCELED
X-ALT-DESC;FMTTYPE=text/html:<span style="color: rgb(63\, 63\, 63)\; font-family: Oxygen\, Arial\, 'Helvetica Neue'\, Helvetica\, sans-serif\; font-size: 16px\; line-height: 20.8px\;">CANCELED</span><br />\n<br />\n<br />\n&nbsp\;
LOCATION:Chamber of Commerce 100 Lincoln Way East Chambersburg\, PA 17201
UID:e.1180.19170
SEQUENCE:3
DTSTAMP:20260420T152155Z
URL:https://business.cvballiance.org/events/details/accessing-capital-for-small-business-05-04-2016-19170
END:VEVENT

END:VCALENDAR
