BEGIN:VCALENDAR
VERSION:2.0
PRODID:-//ChamberMaster//Event Calendar 2.0//EN
METHOD:PUBLISH
X-PUBLISHED-TTL:P3D
REFRESH-INTERVAL:P3D
CALSCALE:GREGORIAN
BEGIN:VEVENT
DTSTART:20260711T110000Z
DTEND:20260711T140000Z
X-MICROSOFT-CDO-ALLDAYEVENT:FALSE
SUMMARY:Annual Tim & Susan Cook Memorial Race
DESCRIPTION:Participate in the 22nd Annual Tim & Susan Cook Memorial 1-Mile Race/Walk. Registration begins at 7 a.m. at the Chambersburg Area Senior High School (CASHS) upper stadium area\, with the women's race/walk at 8 a.m. and the men's race/walk at 8:30 a.m. Money raised from this event is contributed to the Tim & Susan Cook Memorial Scholarship Fund\, which annually awards scholarships to two seniors from CASHS. Day-of registration is $25 with a T-shirt (if available). Register here or call 717-264-7101.\n\nCoordinated by the Greater Chambersburg Chamber of Commerce
X-ALT-DESC;FMTTYPE=text/html:<p>Participate in the 22nd Annual Tim &amp\; Susan Cook Memorial 1-Mile Race/Walk. Registration begins at 7 a.m. at the Chambersburg Area Senior High School (CASHS) upper stadium area\, with the women&rsquo\;s race/walk at 8 a.m. and the men&rsquo\;s race/walk at 8:30 a.m. Money raised from this event is contributed to the Tim &amp\; Susan Cook Memorial Scholarship Fund\, which annually awards scholarships to two seniors from CASHS. Day-of registration is $25 with a T-shirt (if available). Register here or call 717-264-7101.</p>\n\n<p><em>Coordinated by the Greater Chambersburg Chamber of Commerce</em></p>\n
LOCATION:
UID:e.1180.42614
SEQUENCE:3
DTSTAMP:20260424T183109Z
URL:https://business.cvballiance.org/events/details/annual-tim-susan-cook-memorial-race-42614
END:VEVENT

END:VCALENDAR
