BEGIN:VCALENDAR
VERSION:2.0
PRODID:-//ChamberMaster//Event Calendar 2.0//EN
METHOD:PUBLISH
X-PUBLISHED-TTL:P3D
REFRESH-INTERVAL:P3D
CALSCALE:GREGORIAN
BEGIN:VEVENT
DTSTART:20230520T203000Z
DTEND:20230520T230000Z
X-MICROSOFT-CDO-ALLDAYEVENT:FALSE
SUMMARY:Baked Potato Bar Fundraiser at Rhodes Grove Camp and Conference Center
DESCRIPTION:You can make a difference in the lives of kids in our community.  Save the date!  We're having a fundraiser!\n\nThe funds raised from our Baked Potato Bar Fundraiser will benefit our Summer Camp\, which reaches around 400 youth annually\, by providing food\, medical supplies\, speakers\, and staffing. Some of the monies will also go to the Free the Gospel program for families in need to have their camp costs covered. This year's theme for Summer Camp is the Amazing Race\, focusing on Hebrews 12.\n\n\n\nClick here to see our informational flyer.
X-ALT-DESC;FMTTYPE=text/html:You can make a difference in the lives of kids in our community.&nbsp\; Save the date!&nbsp\; We&#39\;re having a fundraiser!<br />\nThe funds raised from our Baked Potato Bar Fundraiser will benefit our Summer Camp\, which reaches around 400 youth annually\, by providing food\, medical supplies\, speakers\, and staffing. Some of the monies will also go to the Free the Gospel program for families in need to have their camp costs covered. This year&rsquo\;s theme for Summer Camp is the Amazing Race\, focusing on Hebrews 12.<br />\n<br />\nClick <a href="https://rhodesgrove.com/resources/">here</a> to see our informational flyer.
LOCATION:
UID:e.1180.38077
SEQUENCE:3
DTSTAMP:20260420T030125Z
URL:https://business.cvballiance.org/events/details/baked-potato-bar-fundraiser-at-rhodes-grove-camp-and-conference-center-38077
END:VEVENT

END:VCALENDAR
