BEGIN:VCALENDAR
VERSION:2.0
PRODID:-//ChamberMaster//Event Calendar 2.0//EN
METHOD:PUBLISH
X-PUBLISHED-TTL:P3D
REFRESH-INTERVAL:P3D
CALSCALE:GREGORIAN
BEGIN:VEVENT
DTSTART:20200409T230000Z
DTEND:20200410T003000Z
X-MICROSOFT-CDO-ALLDAYEVENT:FALSE
SUMMARY:Cancelled- Grief Knits*
DESCRIPTION:Knitting has shown positive mental health benefits for grievers. Come and meet others who are grieving the death of a loved one and learn to knit too! If you're a griever who already knows how to knit/crochet\, bring your current project with you or bring another craft project!  Not crafty? That's okay too. You are welcome to gather with us for conversation and fellowship. All materials are provided by the Drew Michael Taylor Foundation.
X-ALT-DESC;FMTTYPE=text/html:&nbsp\;Knitting has shown positive mental health benefits for grievers. Come and meet others who are grieving the death of a loved one and learn to knit too! If you&rsquo\;re a griever who already knows how to knit/crochet\, bring your current project with you or bring another craft project!&nbsp\; Not crafty? That&rsquo\;s okay too. You are welcome to gather with us for conversation and fellowship. All materials are provided by the Drew Michael Taylor Foundation.
LOCATION:Drew Michael Taylor Foundation Center for Grieving Families 7 S.Earl St. Shippensburg\, PA 17257
UID:e.1180.30393
SEQUENCE:3
DTSTAMP:20260421T033338Z
URL:https://business.cvballiance.org/events/details/cancelled-grief-knits-30393
END:VEVENT

END:VCALENDAR
