BEGIN:VCALENDAR
VERSION:2.0
PRODID:-//ChamberMaster//Event Calendar 2.0//EN
METHOD:PUBLISH
X-PUBLISHED-TTL:P3D
REFRESH-INTERVAL:P3D
CALSCALE:GREGORIAN
BEGIN:VEVENT
DTSTART:20260520T153000Z
DTEND:20260520T170000Z
X-MICROSOFT-CDO-ALLDAYEVENT:FALSE
SUMMARY:CVBA Lunch and Learn: How to Get the Most Out of Your AI
DESCRIPTION:This Lunch and Learn is designed to move beyond the basics of "just asking questions" and into strategic AI orchestration. For small businesses\, the goal is to shift from using AI as a search engine to using it as a specialized department head.\n\n\n\nNote: Limit of four representatives per organization.
X-ALT-DESC;FMTTYPE=text/html:This Lunch and Learn is designed to move beyond the basics of &quot\;just asking questions&quot\; and into strategic AI orchestration. For small businesses\, the goal is to shift from using AI as a search engine to using it as a specialized department head.<br />\n<br />\nNote: Limit of four representatives per organization.
LOCATION:Franklin County 11/30 Visitors Center 15 S Main St\, Chambersburg\, PA 17201
UID:e.1180.42583
SEQUENCE:3
DTSTAMP:20260424T134319Z
URL:https://business.cvballiance.org/events/details/cvba-lunch-and-learn-how-to-get-the-most-out-of-your-ai-42583
END:VEVENT

END:VCALENDAR
