BEGIN:VCALENDAR
VERSION:2.0
PRODID:-//ChamberMaster//Event Calendar 2.0//EN
METHOD:PUBLISH
X-PUBLISHED-TTL:P3D
REFRESH-INTERVAL:P3D
CALSCALE:GREGORIAN
BEGIN:VEVENT
DTSTART:20240701T130000Z
DTEND:20240701T180000Z
X-MICROSOFT-CDO-ALLDAYEVENT:FALSE
SUMMARY:Discover! Fly Fishing Adventure Camp
DESCRIPTION:For students completing grades 5 through age 17. Presented by Buttonwood Nature Center\, home of The Institute. During this 2-day summer camp at Orvis Hill Country\, campers will learn fly fishing essentials like gear and knots\, fly tying\, plus freshwater biology and aquatic "critters." An exploration hike allows students to discover many wonders of nature. The fee is $100 for members of Buttonwood Nature Center/The Institute\, and $110 for the general public. Enrollment is limited and pre-registration is required. Register online at: buttonwoodnaturecenter.org.
X-ALT-DESC;FMTTYPE=text/html:<p>For students completing grades 5 through age 17. Presented by Buttonwood Nature Center\, home of The Institute. During this 2-day summer camp at Orvis Hill Country\, campers will learn fly fishing essentials like gear and knots\, fly tying\, plus freshwater biology and aquatic &ldquo\;critters.&rdquo\; An exploration hike allows students to discover many wonders of nature. The fee is $100 for members of Buttonwood Nature Center/The Institute\, and $110 for the general public. Enrollment is&nbsp\;limited and pre-registration is required. Register online at: <a href="http://buttonwoodnaturecenter.org">buttonwoodnaturecenter.org</a>.</p>\n
LOCATION:Orvis Hill Country\, 519 Gladhill Rd\, Fairfield\, PA
UID:e.1180.40060
SEQUENCE:3
DTSTAMP:20260423T203526Z
URL:https://business.cvballiance.org/events/details/discover-fly-fishing-adventure-camp-40060
END:VEVENT

END:VCALENDAR
