BEGIN:VCALENDAR
VERSION:2.0
PRODID:-//ChamberMaster//Event Calendar 2.0//EN
METHOD:PUBLISH
X-PUBLISHED-TTL:P3D
REFRESH-INTERVAL:P3D
CALSCALE:GREGORIAN
BEGIN:VEVENT
DTSTART;VALUE=DATE:20260507
DTEND;VALUE=DATE:20260510
TRANSP:TRANSPARENT
X-MICROSOFT-CDO-ALLDAYEVENT:TRUE
SUMMARY:Fabric Fair
DESCRIPTION:Salvation Army's Fabric Fair is May 7-9\, 2026 at AmVets Pavilion.\n\nThursday is 8am to 6pm\n\nFriday is 8am to 4pm\n\nSaturday is 8am to 2pm
X-ALT-DESC;FMTTYPE=text/html:Salvation Army&#39\;s Fabric Fair is May 7-9\, 2026 at AmVets Pavilion.<br />\nThursday is 8am to 6pm<br />\nFriday is 8am to 4pm<br />\nSaturday is 8am to 2pm
LOCATION:AMVets Pavilion 750 5th Avenue Chambersburg\, Pa
UID:e.1180.42448
SEQUENCE:3
DTSTAMP:20260424T171058Z
URL:https://business.cvballiance.org/events/details/fabric-fair-42448
END:VEVENT

END:VCALENDAR
