BEGIN:VCALENDAR
VERSION:2.0
PRODID:-//ChamberMaster//Event Calendar 2.0//EN
METHOD:PUBLISH
X-PUBLISHED-TTL:P3D
REFRESH-INTERVAL:P3D
CALSCALE:GREGORIAN
BEGIN:VEVENT
DTSTART:20260530T130000Z
DTEND:20260530T180000Z
X-MICROSOFT-CDO-ALLDAYEVENT:FALSE
SUMMARY:Free Adult Heart Screening at Chambersburg Memorial YMCA
DESCRIPTION:Heart Screening open to adults aged 18 years or older\, who are not currently under the care of a cardiologist. Echocardiograms will also be offered that day on site\, free of charge\, for those persons who are identified as needing additional testing. Pre-registration is required and appointments fill quickly. Visit PeytonWalker.org for more information or call 717-695-1917 or email info@peytonwalker.org.
X-ALT-DESC;FMTTYPE=text/html:Heart Screening open to adults aged 18 years or older\, who are not currently under the care of a cardiologist. Echocardiograms will also be offered that day on site\, free of charge\, for those persons who are identified as needing additional testing. Pre-registration is required and appointments fill quickly. Visit PeytonWalker.org for more information or call 717-695-1917 or email info@peytonwalker.org.
LOCATION:Chambersburg Memorial YMCA 570 E. McKinley Street Chambersburg\, PA 17201
UID:e.1180.42695
SEQUENCE:3
DTSTAMP:20260424T163824Z
URL:https://business.cvballiance.org/events/details/free-adult-heart-screening-at-chambersburg-memorial-ymca-42695
END:VEVENT

END:VCALENDAR
