BEGIN:VCALENDAR
VERSION:2.0
PRODID:-//ChamberMaster//Event Calendar 2.0//EN
METHOD:PUBLISH
X-PUBLISHED-TTL:P3D
REFRESH-INTERVAL:P3D
CALSCALE:GREGORIAN
BEGIN:VEVENT
DTSTART;VALUE=DATE:20241116
DTEND;VALUE=DATE:20241117
TRANSP:TRANSPARENT
X-MICROSOFT-CDO-ALLDAYEVENT:TRUE
SUMMARY:G-A Light It Up 2024 Contestant Entry
DESCRIPTION:Join in on the fun with the 2024 Heritage Christmas Light It Up contest!\n\nRegister your house as a contestant\, deck the halls with your best holiday display and the public will vote for the winners!\n\nWinners will be listed in the Echo Pilot\, on the Chamber website and Chamber Facebook page.\n\n\n\nEntry is free\; votes from the public are $1 each and all proceeds benefit the Greencastle-Antrim Food Pantry.\n\nEnter at this link or fill out the form on the Heritage Christmas brochure.
X-ALT-DESC;FMTTYPE=text/html:<span style="font-size:16px\;"><span style="font-family:arial\;"><span style="color:#006400\;"><strong>&#8203\;Join in on the fun with the 2024 Heritage Christmas Light It Up contest!</strong></span></span></span><br />\n<span style="font-size:16px\;"><span style="font-family:arial\;"><span style="color:#006400\;"><strong>Register your house as a contestant\, deck the halls with your best holiday display and the public will vote for the winners!</strong></span></span></span><br />\n<span style="font-size:16px\;"><span style="font-family:arial\;"><span style="color:#006400\;"><strong>Winners will be listed in the Echo Pilot\, on the Chamber website and Chamber Facebook page.<br />\n<br />\nEntry is free\; votes from the public are $1&nbsp\;each and all proceeds benefit the Greencastle-Antrim Food Pantry.<br />\nEnter at this&nbsp\;<a href="https://bit.ly/3NOyFiH">link&nbsp\;</a>or fill out the form on the Heritage Christmas brochure.</strong></span></span></span><br />\n<br />\n<br />\n&nbsp\;
LOCATION:Greencastle-Antrim Area
UID:e.1180.40382
SEQUENCE:3
DTSTAMP:20260422T221536Z
URL:https://business.cvballiance.org/events/details/g-a-light-it-up-2024-contestant-entry-11-16-2024-40382
END:VEVENT

END:VCALENDAR
