BEGIN:VCALENDAR
VERSION:2.0
PRODID:-//ChamberMaster//Event Calendar 2.0//EN
METHOD:PUBLISH
X-PUBLISHED-TTL:P3D
REFRESH-INTERVAL:P3D
CALSCALE:GREGORIAN
BEGIN:VEVENT
DTSTART;VALUE=DATE:20251125
DTEND;VALUE=DATE:20251126
TRANSP:TRANSPARENT
X-MICROSOFT-CDO-ALLDAYEVENT:TRUE
SUMMARY:G-A Light It Up 2025 Contestant Entry
DESCRIPTION:The Greencastle-Antrim Chamber of Commerce is excited to announce that we are seeking contestants for the 2025 Light It Up Contest! We invite homes and businesses who enjoy decorating to participate in this festive event.\n\n \n\nRegister your home\, neighborhood\, or business as a contestant\, then create your best holiday display. The public will vote for the winners as part of a fundraiser for the Greencastle-Antrim Food Pantry\, and a map of all participants will be shared via social media.\n\n \n\nThis year\, we have three distinct categories for participation:\n\n \n\n1. **Individual Homes:** This category is for single-family homes entering as a stand-alone display.\n\n2. **Group Entry:** This category is for two or more homes or businesses located in a concentrated area\, such as a neighborhood or street. We encourage you to collaborate with your neighbors and bring your community together to celebrate the spirit of Christmas! Only one registration is needed per entry.\n\n3. **Business:** This category is open to any non-residential entity. Decorations may include traditional light displays\, window decorating\, or a combination. Please ensure your display is clearly visible from vehicles passing by on the street.\n\n \n\nSignage designating the location as a contestant will be provided to the registrant on or before December 1. Contestant' addresses will be shared via social media\, press releases\, and on the Chamber website.\n\n\n\nThe public has an opportunity to vote for their favorite\, and winners will be announced through the Chamber's social media channels. \n\n \n\nYou can enter above or by filling out the form available here.  \n\nWe look forward to seeing your festive displays!
X-ALT-DESC;FMTTYPE=text/html:<div><span style="font-size:16px\;"><span style="font-family:arial\;"><span style="color:#006400\;"><strong>The Greencastle-Antrim Chamber of Commerce is excited to announce that we are seeking contestants for the 2025 Light It Up Contest! We invite homes and businesses who enjoy decorating to participate in this festive event.</strong></span></span></span></div>\n\n<div style="color: rgb(31\, 31\, 31)\; font-family: Roboto\, Helvetica\, Arial\, sans-serif\; font-size: 14px\; letter-spacing: 0.2px\; background-color: rgb(255\, 255\, 255)\;">&nbsp\;</div>\n\n<div style="color: rgb(31\, 31\, 31)\; font-family: Roboto\, Helvetica\, Arial\, sans-serif\; font-size: 14px\; letter-spacing: 0.2px\; background-color: rgb(255\, 255\, 255)\;"><span style="font-size:16px\;"><span style="font-family:arial\;"><span style="color:#006400\;"><strong>Register your home\, neighborhood\, or business as a contestant\, then create your best holiday display. The public will vote for the winners as part of a fundraiser for the Greencastle-Antrim Food Pantry\, and a map of all participants will be shared via social media.</strong></span></span></span></div>\n\n<div style="color: rgb(31\, 31\, 31)\; font-family: Roboto\, Helvetica\, Arial\, sans-serif\; font-size: 14px\; letter-spacing: 0.2px\; background-color: rgb(255\, 255\, 255)\;">&nbsp\;</div>\n\n<div style="color: rgb(31\, 31\, 31)\; font-family: Roboto\, Helvetica\, Arial\, sans-serif\; font-size: 14px\; letter-spacing: 0.2px\; background-color: rgb(255\, 255\, 255)\;"><span style="font-size:16px\;"><span style="font-family:arial\;"><span style="color:#006400\;"><strong>This year\, we have three distinct categories for participation:</strong></span></span></span></div>\n\n<div style="color: rgb(31\, 31\, 31)\; font-family: Roboto\, Helvetica\, Arial\, sans-serif\; font-size: 14px\; letter-spacing: 0.2px\; background-color: rgb(255\, 255\, 255)\;">&nbsp\;</div>\n\n<div style="color: rgb(31\, 31\, 31)\; font-family: Roboto\, Helvetica\, Arial\, sans-serif\; font-size: 14px\; letter-spacing: 0.2px\; background-color: rgb(255\, 255\, 255)\;"><span style="font-size:16px\;"><span style="font-family:arial\;"><span style="color:#006400\;"><strong>1. **Individual Homes:** This category is for single-family homes entering as a stand-alone display.</strong></span></span></span></div>\n\n<div style="color: rgb(31\, 31\, 31)\; font-family: Roboto\, Helvetica\, Arial\, sans-serif\; font-size: 14px\; letter-spacing: 0.2px\; background-color: rgb(255\, 255\, 255)\;"><span style="font-size:16px\;"><span style="font-family:arial\;"><span style="color:#006400\;"><strong>2. **Group Entry:** This category is for two or more homes or businesses located in a concentrated area\, such as a neighborhood or street. We encourage you to collaborate with your neighbors and bring your community together to celebrate the spirit of Christmas! Only one registration is needed per entry.</strong></span></span></span></div>\n\n<div style="color: rgb(31\, 31\, 31)\; font-family: Roboto\, Helvetica\, Arial\, sans-serif\; font-size: 14px\; letter-spacing: 0.2px\; background-color: rgb(255\, 255\, 255)\;"><span style="font-size:16px\;"><span style="font-family:arial\;"><span style="color:#006400\;"><strong>3. **Business:** This category is open to any non-residential entity. Decorations may include traditional light displays\, window decorating\, or a combination. Please ensure your display is clearly visible from vehicles passing by on the street.</strong></span></span></span></div>\n\n<div style="color: rgb(31\, 31\, 31)\; font-family: Roboto\, Helvetica\, Arial\, sans-serif\; font-size: 14px\; letter-spacing: 0.2px\; background-color: rgb(255\, 255\, 255)\;">&nbsp\;</div>\n\n<div style="color: rgb(31\, 31\, 31)\; font-family: Roboto\, Helvetica\, Arial\, sans-serif\; font-size: 14px\; letter-spacing: 0.2px\; background-color: rgb(255\, 255\, 255)\;"><span style="font-size:16px\;"><span style="font-family:arial\;"><span style="color:#006400\;"><strong>Signage designating the location as a contestant will be provided to the registrant on or before December 1. Contestant&#39\; addresses will be shared via social media\, press releases\, and on the Chamber website.<br />\n<br />\nThe public has an opportunity to vote for their favorite\, and winners will be announced through the Chamber&#39\;s social media channels. </strong></span></span></span><br />\n&nbsp\;</div>\n\n<div style="color: rgb(31\, 31\, 31)\; font-family: Roboto\, Helvetica\, Arial\, sans-serif\; font-size: 14px\; letter-spacing: 0.2px\; background-color: rgb(255\, 255\, 255)\;"><span style="font-size:16px\;"><span style="font-family:arial\;"><span style="color:#006400\;"><strong>You can enter above or by filling out the form available <a href="https://chambermaster.blob.core.windows.net/userfiles/UserFiles/chambers/1180/File/GACC/Light_It_Up_2025_Registration_Form.pdf">here</a>.&nbsp\;&nbsp\;</strong></span></span></span>\n\n<div style="color: rgb(31\, 31\, 31)\; font-family: Roboto\, Helvetica\, Arial\, sans-serif\; font-size: 14px\; letter-spacing: 0.2px\;"><span style="font-size: 16px\;"><span style="font-family: arial\;"><span style="color: rgb(0\, 100\, 0)\;"><strong>We look forward to seeing your festive displays!</strong></span></span></span></div>\n\n<div style="color: rgb(31\, 31\, 31)\; font-family: Roboto\, Helvetica\, Arial\, sans-serif\; font-size: 14px\; letter-spacing: 0.2px\;">&nbsp\;</div>\n</div>\n
LOCATION:Greencastle-Antrim Area
UID:e.1180.41344
SEQUENCE:3
DTSTAMP:20260426T024213Z
URL:https://business.cvballiance.org/events/details/g-a-light-it-up-2025-contestant-entry-41344
END:VEVENT

END:VCALENDAR
