BEGIN:VCALENDAR
VERSION:2.0
PRODID:-//ChamberMaster//Event Calendar 2.0//EN
METHOD:PUBLISH
X-PUBLISHED-TTL:P3D
REFRESH-INTERVAL:P3D
CALSCALE:GREGORIAN
BEGIN:VEVENT
DTSTART:20260516T123000Z
DTEND:20260516T203000Z
X-MICROSOFT-CDO-ALLDAYEVENT:FALSE
SUMMARY:Geology Field Trip: Your Backyard Geology
DESCRIPTION:Trip will focus on the geologic history and topography of our region. Geared for families\, the trip includes collecting fossils\, minerals and rocks along with visiting geologic sites dating back as far as 160 million years. Includes a tour of the Black-Coffey Caverns. Opportunity to fulfill Boy Scout requirements or homeschooler project. Transportation by bus only\, provided. Pre-registration required. Open to those age 8 and older. Fee: $65 members of Buttonwood Nature Center\, $70 general public. Bring bag lunch. For more information\, contact us at (717) 762-0373 or info@buttonwoodnaturecenter.org.
X-ALT-DESC;FMTTYPE=text/html:<p>Trip will focus on the geologic history and topography of our region. Geared for families\, the trip includes collecting fossils\, minerals and rocks along with visiting geologic sites dating back as far as 160 million years. Includes a tour of the Black-Coffey Caverns. Opportunity to fulfill Boy Scout requirements or homeschooler project. Transportation by bus only\, provided. Pre-registration required. Open to those age 8 and older. Fee: $65 members of Buttonwood Nature Center\, $70 general public. Bring bag lunch. For more information\, contact us at (717) 762-0373 or <a href="mailto:info@buttonwoodnaturecenter.org">info@buttonwoodnaturecenter.org</a>.</p>\n
LOCATION:Meet-up location provided upon registration.
UID:e.1180.42652
SEQUENCE:3
DTSTAMP:20260424T153239Z
URL:https://business.cvballiance.org/events/details/geology-field-trip-your-backyard-geology-42652
END:VEVENT

END:VCALENDAR
