BEGIN:VCALENDAR
VERSION:2.0
PRODID:-//ChamberMaster//Event Calendar 2.0//EN
METHOD:PUBLISH
X-PUBLISHED-TTL:P3D
REFRESH-INTERVAL:P3D
CALSCALE:GREGORIAN
BEGIN:VEVENT
DTSTART:20220825T200000Z
DTEND:20220825T220000Z
X-MICROSOFT-CDO-ALLDAYEVENT:FALSE
SUMMARY:Grand Opening / Ribbon Cutting Celebration at the Elks Club #600
DESCRIPTION:Please come out for the Grand Opening / Ribbon Cutting Celebration at the newly renovated Elks Club #600. Appetizers and refreshments will be available inside after the ribbon cutting. Please come out and support one of our newest CVBA members\, the Elks Club #600. Ribbon cutting happening at 4:15pm.
X-ALT-DESC;FMTTYPE=text/html:Please come out for the Grand Opening / Ribbon Cutting Celebration at the newly renovated Elks Club #600. Appetizers and refreshments will be available inside after the ribbon cutting. Please come out and support one of our newest CVBA members\, the Elks Club #600. Ribbon cutting happening at 4:15pm.
LOCATION:Elks Club #600\, 346 Lincoln Way E\, Chambersburg\, PA 17201
UID:e.1180.37258
SEQUENCE:3
DTSTAMP:20260425T115606Z
URL:https://business.cvballiance.org/events/details/grand-opening-ribbon-cutting-celebration-at-the-elks-club-600-37258
END:VEVENT

END:VCALENDAR
