BEGIN:VCALENDAR
VERSION:2.0
PRODID:-//ChamberMaster//Event Calendar 2.0//EN
METHOD:PUBLISH
X-PUBLISHED-TTL:P3D
REFRESH-INTERVAL:P3D
CALSCALE:GREGORIAN
BEGIN:VEVENT
DTSTART:20251212T223000Z
DTEND:20251213T013000Z
X-MICROSOFT-CDO-ALLDAYEVENT:FALSE
SUMMARY:Heritage Christmas in the Square (12/12/25)
DESCRIPTION:Vendors Around the Square December 12th: \n\n	\n		\n	\n	\n		\n			Community Groups & Organizations:\n		\n		\n			 Troop 195 - Selling Candy\n		\n		\n			 Troop 95 - Selling Apple Butter\n		\n		\n			 American Heritage Girls/Trail Life USA - S'Mores & Hot Drinks\n		\n		\n			 Salem Ridge Community Church - Hot Cider & Pretzels\n		\n		\n			 Troop 99 - Hot Dogs & Soup - accepting cash donations for G-A Food Pantry\n		\n		\n			 Greencastle Presbyterian Church - Popcorn and warm apple cider\n		\n		\n			 Ebenezer Church - cookies & Hot Chocolate\, Bibles\, & Brochures\n		\n		\n			 Trinity Lutheran Church - Portable Fire Pit - Reindeer Food & Baked Goods\n		\n		\n			 G-A HS National Honor Society - Collecting donations for local animal shelters\n		\n		\n			Vendors with Gift Ideas:\n		\n		\n			  Bright Ideas Bakery   Maggie's Naturals\n		\n		\n			  Lizzy's Food Truck   Mill Road Maple\n		\n		\n			  Forrester's Lincoln  Hilbilly's Jerky\n		\n	\n\n\n\nKids Activities:\n\n   Uncle Bean (balloon creations)\n\n   Photos with Santa \n\n   Highline Train Station Display\n\n   Horse & Wagon Rides (tickets sales begin at 5:30)\n\n   Strolling Characters - Apple Annie\, Snowman\, Elves\, and more!\n\n\n\nEntertainment:\n\n   Sounds of the Season  DJ Nitelife\n\n   Calvary Mennonite Church Sacred Music\, 6:30 to 7:30 pm\n\n   Thank you to our Heritage Christmas sponsors:\n\nAntrim Insurance Agency - Antrim Winter Wonderland Sponsor\n\nSnyder's Attractions - Antrim Winter Wonderland Premier Sponsor\n\nGraphics Universal - Brochure Sponsor\n\nBorough of Greencastle - Christmas Tree  Sponsor\n\nAntrim Township - Christmas Tree Sponsor\n\nForrester Lincoln - Horse & Wagon Sponsor\n\nManitowoc Cranes - Light it Up Sponsor\n\nGrambo's Attic - Lights of Love Sponsor\n\nWellSpan Health - Postage Sponsor\n\nCentury\, Inc. - Small Business Saturday Sponsor\n\nLocal IQ /Herald Mail Media - Song Book Sponsor\n\nOrrstown Bank - Taste of the Holidays Sponsor\n\nPatriot Federal Credit Union - Tree Lighting  Ceremony Sponsor\n\nPremier HVAC - Decorating Sponsor\n\nLumber Direct - Holiday House Sponsor\n\nF&M Trust - Pictures with Santa Sponsor\n\nCorning Credit Union - Santa's Mailbox Sponsor\n\nMiddletown Valley Bank - Scavenger Hunt Sponsor\n\nACNB Bank - Sounds of the Season Sponsor\n\nGreencastle ACE Hardware - Tree Star Sponsor\n\nQuad State Air Compressor Sales & Services - Uncle Bean Sponsor\n\n\n\nGOLD SPONSORS: \n\nChick-Fil-A Chambersburg  Mikie's Ice Cream & Green Cow Gift Shop   Starr Insurance   Herbruck's of Blue Springs\n\n\n\nSILVER SPONSORS: \n\nDSS Law - Dick\, Stein\, Schemel\, Wine\, and Frey\, LLP    Greencastle Eye Care Center  SEK CPAs & Advisors\n\n\n\nBRONZE SPONSORS:  \n\nEberly's Plumbing & Heating\, Inc.   Farmers Union Co-Op  Penn National Insurance
X-ALT-DESC;FMTTYPE=text/html:<div -webkit-font-smoothing:="" color:="" open="" style="box-sizing: border-box\; margin: 0px\; padding: 0px 0px 27px\; border: 0px\; font-variant-numeric: inherit\; font-variant-east-asian: inherit\; font-stretch: inherit\; font-size: 16px\; line-height: inherit\;" vertical-align:=""><span style="color:#B22222\;"><strong>&#9658\; <em>Vendors Around the Square December 12th: </em></strong></span>\n<table border="1" cellpadding="0" cellspacing="0" data-sheets-baot="1" data-sheets-root="1" dir="ltr" style="table-layout: fixed\; font-size: 10pt\; font-family: Arial\; width: 0px\; border-collapse: collapse\; border: none\;" xmlns="http://www.w3.org/1999/xhtml">\n	<colgroup>\n		<col width="587" />\n	</colgroup>\n	<tbody>\n		<tr style="height: 21px\;">\n			<td style="border: 1px solid rgb(204\, 204\, 204)\; overflow: hidden\; padding: 2px 3px\; vertical-align: bottom\; font-size: 12pt\; font-weight: bold\;">Community Groups &amp\; Organizations:</td>\n		</tr>\n		<tr style="height: 21px\;">\n			<td style="border: 1px solid rgb(204\, 204\, 204)\; overflow: hidden\; padding: 2px 3px\; vertical-align: bottom\; background-color: rgb(255\, 255\, 255)\;"><span style="font-family: Arial\; font-size: 13.3333px\;">&#127876\;</span>Troop 195 - Selling Candy</td>\n		</tr>\n		<tr style="height: 21px\;">\n			<td style="border: 1px solid rgb(204\, 204\, 204)\; overflow: hidden\; padding: 2px 3px\; vertical-align: bottom\; background-color: rgb(255\, 255\, 255)\;"><span style="font-family: Arial\; font-size: 13.3333px\;">&#127876\;</span>Troop 95 - Selling Apple Butter</td>\n		</tr>\n		<tr style="height: 21px\;">\n			<td style="border: 1px solid rgb(204\, 204\, 204)\; overflow: hidden\; padding: 2px 3px\; vertical-align: bottom\;"><span style="font-family: Arial\; font-size: 13.3333px\;">&#127876\;</span>American Heritage Girls/Trail Life USA - S&#39\;Mores &amp\; Hot Drinks</td>\n		</tr>\n		<tr style="height: 21px\;">\n			<td style="border: 1px solid rgb(204\, 204\, 204)\; overflow: hidden\; padding: 2px 3px\; vertical-align: bottom\;"><span style="font-family: Arial\; font-size: 13.3333px\;">&#127876\;</span>Salem Ridge Community Church - Hot Cider &amp\; Pretzels</td>\n		</tr>\n		<tr style="height: 21px\;">\n			<td style="border: 1px solid rgb(204\, 204\, 204)\; overflow: hidden\; padding: 2px 3px\; vertical-align: bottom\;"><span style="font-family: Arial\; font-size: 13.3333px\;">&#127876\;</span>Troop 99 - Hot Dogs &amp\; Soup - accepting cash donations for G-A Food Pantry</td>\n		</tr>\n		<tr style="height: 21px\;">\n			<td style="border: 1px solid rgb(204\, 204\, 204)\; overflow: hidden\; padding: 2px 3px\; vertical-align: bottom\;"><span style="font-family: Arial\; font-size: 13.3333px\;">&#127876\;</span>Greencastle Presbyterian Church - Popcorn and warm apple cider</td>\n		</tr>\n		<tr style="height: 21px\;">\n			<td style="border: 1px solid rgb(204\, 204\, 204)\; overflow: hidden\; padding: 2px 3px\; vertical-align: bottom\;"><span style="font-family: Arial\; font-size: 13.3333px\;">&#127876\;</span>Ebenezer Church - cookies &amp\; Hot Chocolate\, Bibles\, &amp\; Brochures</td>\n		</tr>\n		<tr style="height: 21px\;">\n			<td style="border: 1px solid rgb(204\, 204\, 204)\; overflow: hidden\; padding: 2px 3px\; vertical-align: bottom\;"><span style="font-family: Arial\; font-size: 13.3333px\;">&#127876\;</span>Trinity Lutheran Church - Portable Fire Pit - Reindeer Food &amp\; Baked Goods</td>\n		</tr>\n		<tr style="height: 21px\;">\n			<td style="border: 1px solid rgb(204\, 204\, 204)\; overflow: hidden\; padding: 2px 3px\; vertical-align: bottom\;"><span style="font-family: Arial\; font-size: 13.3333px\;">&#127876\;</span>G-A HS National Honor Society - Collecting donations for local animal shelters</td>\n		</tr>\n		<tr style="height: 21px\;">\n			<td style="border: 1px solid rgb(204\, 204\, 204)\; overflow: hidden\; padding: 2px 3px\; vertical-align: bottom\; background-color: rgb(255\, 255\, 255)\; font-size: 12pt\; font-weight: bold\;">Vendors with Gift Ideas:</td>\n		</tr>\n		<tr style="height: 21px\;">\n			<td style="border: 1px solid rgb(204\, 204\, 204)\; overflow: hidden\; padding: 2px 3px\; vertical-align: bottom\; background-color: rgb(255\, 255\, 255)\;"><span style="font-family: Arial\; font-size: 13.3333px\;">&#127876\;&nbsp\;</span>Bright Ideas Bakery &#127876\; Maggie&#39\;s Naturals</td>\n		</tr>\n		<tr style="height: 21px\;">\n			<td style="border: 1px solid rgb(204\, 204\, 204)\; overflow: hidden\; padding: 2px 3px\; vertical-align: bottom\;"><span style="font-family: Arial\; font-size: 13.3333px\;">&#127876\;&nbsp\;</span>Lizzy&#39\;s Food Truck &#127876\; Mill Road Maple</td>\n		</tr>\n		<tr style="height: 21px\;">\n			<td style="border: 1px solid rgb(204\, 204\, 204)\; overflow: hidden\; padding: 2px 3px\; vertical-align: bottom\;"><span style="font-family: Arial\; font-size: 13.3333px\;">&#127876\;&nbsp\;</span>Forrester&#39\;s Lincoln &#127876\;Hilbilly&#39\;s Jerky</td>\n		</tr>\n	</tbody>\n</table>\n<br />\n<span style="color:#B22222\;"><em><strong>Kids Activities:</strong></em></span><br />\n&#9731\;&#65039\; Uncle Bean (balloon creations)<br />\n<span style="font-size: 16px\;">&#9731\;&#65039\;&nbsp\;</span>Photos with Santa&nbsp\;<br />\n<span style="font-size: 16px\;">&#9731\;&#65039\;&nbsp\;</span>Highline Train Station Display<br />\n<span style="font-size: 16px\;">&#9731\;&#65039\; Horse &amp\; Wagon Rides (tickets sales begin at 5:30)</span><br />\n<span style="font-size: 16px\;">&#9731\;&#65039\;&nbsp\;</span>Strolling Characters - Apple Annie\, Snowman\, Elves\, and more!<br />\n<br />\n<em><span style="color:#B22222\;"><strong>Entertainment:</strong></span></em><br />\n&#10052\;&#65039\; Sounds of the Season&nbsp\; DJ Nitelife<br />\n<span style="font-size: 16px\;">&#10052\;&#65039\; Calvary Mennonite Church Sacred Music\, 6:30 to 7:30 pm</span></div>\n\n<div -webkit-font-smoothing:="" color:="" open="" style="box-sizing: border-box\; margin: 0px\; padding: 0px 0px 27px\; border: 0px\; font-variant-numeric: inherit\; font-variant-east-asian: inherit\; font-stretch: inherit\; font-size: 16px\; line-height: inherit\;" vertical-align:=""><span style="color:#B22222\;"><em><span style="font-family:arial\;"><strong><span id="cke_bm_122S" style="display: none\;">&nbsp\;</span></strong></span></em></span><strong style="font-size: 16px\;"><span style="color: rgb(178\, 34\, 34)\;"><span style="font-size: 18px\;">&#9658\;&nbsp\;</span></span></strong><span style="color:#B22222\;"><em><span style="font-family:arial\;"><strong>Thank you to our Heritage Christmas sponsors:</strong></span></em></span><br />\n<span style="color:#006400\;"><span style="font-family:arial\;"><span style="font-size:16px\;"><em><strong>Antrim Insurance Agency</strong></em> - Antrim Winter Wonderland Sponsor<br />\n<em><strong>Snyder&#39\;s Attractions </strong></em>- Antrim Winter Wonderland Premier Sponsor<br />\n<em><strong>Graphics Universal</strong></em> - Brochure Sponsor<br />\n<em><strong>Borough of Greencastle</strong></em>&nbsp\;-&nbsp\;Christmas Tree&nbsp\; Sponsor<br />\n<em><strong>Antrim Township</strong></em>&nbsp\;-&nbsp\;Christmas Tree Sponsor<br />\n<em><strong>Forrester Lincoln&nbsp\;</strong></em>-&nbsp\;Horse &amp\; Wagon Sponsor<br />\n<em><strong>Manitowoc&nbsp\;Cranes</strong></em> -&nbsp\;Light it Up Sponsor<br />\n<em><strong>Grambo&#39\;s Attic </strong></em>- Lights of Love Sponsor<br />\n<em><strong>WellSpan Health</strong></em> - Postage Sponsor<br />\n<em><strong>Century\, Inc.</strong></em> - Small Business Saturday Sponsor<br />\n<em><strong>Local IQ /Herald Mail Media</strong></em> - Song Book&nbsp\;Sponsor<br />\n<em><strong>Orrstown Bank&nbsp\;</strong></em>-&nbsp\;Taste of the Holidays Sponsor<br />\n<em><strong>Patriot Federal Credit Union</strong></em>&nbsp\;-&nbsp\;Tree Lighting&nbsp\; Ceremony Sponsor</span></span></span><br />\n<span style="color:#B22222\;"><em><strong>Premier HVAC -&nbsp\;</strong></em>Decorating Sponsor<br />\n<em><strong>Lumber Direct </strong></em>- Holiday House Sponsor<br />\n<em><strong>F&amp\;M Trust</strong></em> - Pictures with Santa Sponsor<br />\n<strong><em>Corning Credit Union</em> </strong>- Santa&#39\;s Mailbox Sponsor<br />\n<em><strong>Middletown Valley Bank</strong></em> - Scavenger Hunt Sponsor<br />\n<strong><em>ACNB Bank</em> </strong>- Sounds of the Season Sponsor<br />\n<em><strong>Greencastle ACE Hardware</strong></em>&nbsp\;- Tree Star Sponsor<br />\n<em><strong>Quad State Air Compressor Sales &amp\; Services</strong></em> - Uncle Bean Sponsor</span><br />\n<br />\n<strong><span style="color:#006400\;"><span style="font-size: 16px\;">GOLD SPONSORS: </span></span></strong><br />\n<em><span style="color:#006400\;"><span style="font-size: 16px\;">Chick-Fil-A Chambersburg&nbsp\;</span></span></em><span style="color:#006400\;"><strong><span style="font-size: 16px\;">&#127873\;</span></strong></span><em><span style="color:#006400\;"><span style="font-size: 16px\;">Mikie&#39\;s Ice Cream &amp\; Green Cow Gift Shop&nbsp\;</span></span></em><span style="color:#006400\;"><strong style="font-size: 16px\;">&#127873\;</strong></span><em><span style="color:#006400\;"><strong style="font-size: 16px\;">&nbsp\;</strong><span style="font-size: 16px\;">Starr Insurance&nbsp\;</span></span></em><span style="color:#006400\;"><strong style="font-size: 16px\;">&#127873\;</strong></span><em><span style="color:#006400\;"><strong style="font-size: 16px\;">&nbsp\;</strong><span style="font-size: 16px\;">Herbruck&#39\;s of Blue Springs</span></span></em><br />\n<br />\n<span style="color:#B22222\;"><strong>SILVER SPONSORS:&nbsp\;</strong></span><br />\n<em style="font-size: 16px\;"><span style="color: rgb(178\, 34\, 34)\;">DSS Law - Dick\, Stein\, Schemel\, Wine\, and Frey\, LLP&nbsp\;</span></em><span style="color:#B22222\;"><em>&nbsp\;</em></span><strong style="color: rgb(0\, 100\, 0)\; font-size: 16px\;">&#127873\;</strong><em><strong style="color: rgb(0\, 100\, 0)\; font-size: 16px\;">&nbsp\;</strong><span style="color:#B22222\;">Greencastle Eye Care Center</span></em><span style="color:#B22222\;">&nbsp\;</span><strong style="color: rgb(0\, 100\, 0)\; font-size: 16px\;">&#127873\;</strong><em style="color: rgb(178\, 34\, 34)\; font-size: 16px\;">SEK CPAs &amp\; Advisors</em><br />\n<br />\n<strong><span style="color:#006400\;">BRONZE SPONSORS:&nbsp\;</span></strong><strong style="color: rgb(0\, 100\, 0)\; font-size: 16px\;">&nbsp\;</strong><br />\n<span style="color:#006400\;">Eberly&#39\;s Plumbing &amp\; Heating\, Inc.&nbsp\;</span><strong style="color: rgb(0\, 100\, 0)\; font-size: 16px\;">&#127873\;&nbsp\;</strong><span style="color:#006400\;">Farmers Union Co-Op&nbsp\;</span><strong style="font-size: 16px\; color: rgb(0\, 100\, 0)\;">&#127873\;</strong><span style="color: rgb(0\, 100\, 0)\; font-size: 16px\;">Penn National Insurance&nbsp\;</span></div>\n
LOCATION:Greencastle's Center Square Bring your letters to place in Santa's Mailbox and visit with jolly Saint Nick! Horse & Wagon rides are available again. Limited tickets available for purchase on a first-come\, first-served basis. The Highline Train Station\, a short walk from the Center Square to Jefferson Street wll be open and has a display you don't want to miss. Scavenger Hunt for primary & elementary-aged kids. Stop by the Holiday House for details and win a prize for completing the hunt! Photos with Santa will take place in Center Square again this year! Stop by the Holiday House to purchase the 2025 Tree Ornament or get information about upcoming events!
UID:e.1180.42163
SEQUENCE:3
DTSTAMP:20260426T024422Z
URL:https://business.cvballiance.org/events/details/heritage-christmas-in-the-square-12-12-25-42163
END:VEVENT

END:VCALENDAR
