BEGIN:VCALENDAR
VERSION:2.0
PRODID:-//ChamberMaster//Event Calendar 2.0//EN
METHOD:PUBLISH
X-PUBLISHED-TTL:P3D
REFRESH-INTERVAL:P3D
CALSCALE:GREGORIAN
BEGIN:VEVENT
DTSTART:20260509T170000Z
DTEND:20260509T200000Z
X-MICROSOFT-CDO-ALLDAYEVENT:FALSE
SUMMARY:Mack Berry Band at Adams County Winery
DESCRIPTION:Adams County Winery is excited to welcome the Mack Berry Band back again for another round!\n\nMack Berry Band will be performing at the Farm Winery from 1 p.m.   4 p.m.\n\nAdams County Winery will have many of our award-winning wines available\, in addition to local craft beer\, and snacks\, including cheese and crackers! The Terrace Bistro will be serving wood-fired pizzas and pretzels from 11am until 4pm!\n\nThe last call for purchasing onsite drinks will be 30 minutes before close. Children are always welcome with supervision. We are pet-friendly at the Farm Winery\, just no pets in the Tasting Room\, please.\n\nThis is a rain-or-shine event!
X-ALT-DESC;FMTTYPE=text/html:<p>Adams County Winery is excited to welcome the Mack Berry Band back again for another round!</p>\n\n<p>Mack Berry Band will be performing at the Farm Winery from 1 p.m. &ndash\; 4 p.m.</p>\n\n<p>Adams County Winery will have many of our award-winning wines available\, in addition to local craft beer\, and snacks\, including cheese and crackers! The Terrace Bistro will be serving wood-fired pizzas and pretzels from 11am until 4pm!</p>\n\n<p>The last call for purchasing onsite drinks will be 30 minutes before close. Children are always welcome with supervision. We are pet-friendly at the Farm Winery\, just no pets in the Tasting Room\, please.</p>\n\n<p>This is a rain-or-shine event!</p>\n
LOCATION:
UID:e.1180.42694
SEQUENCE:3
DTSTAMP:20260424T153535Z
URL:https://business.cvballiance.org/events/details/mack-berry-band-at-adams-county-winery-42694
END:VEVENT

END:VCALENDAR
