BEGIN:VCALENDAR
VERSION:2.0
PRODID:-//ChamberMaster//Event Calendar 2.0//EN
METHOD:PUBLISH
X-PUBLISHED-TTL:P3D
REFRESH-INTERVAL:P3D
CALSCALE:GREGORIAN
BEGIN:VEVENT
DTSTART;VALUE=DATE:20260428
DTEND;VALUE=DATE:20260429
TRANSP:TRANSPARENT
X-MICROSOFT-CDO-ALLDAYEVENT:TRUE
SUMMARY:PINE HILL DR Estate Closing April 28th
DESCRIPTION:PINE HILL DR Estate Closing April 28th with Chinese Modern cabinet\; MCM & Henry LinkBR sets\; Sheraton sofa\; curio\; hall credenza & mirror\; corner cupboard\; barrister bookcase\; washstand\; wicker fernery\; Fenton\; depression glass\; Hull pottery\; spatterware\; Olive Oyl doll\; collector dolls\; M. Parrish print\; Tom Clark gnomes\; jewelry\; lion still bank\; clocks\; crocks\; jug\; washbowl/pitcher sets\; Pyrex\; more.\n\nPREVIEW: Apr 27\, 4-6pm at 11475 Pine Hill Dr\, Waynesboro PA 17268 \n\nVIEW DETAILS: https://bidon.hurleyauctions.com/auctions/376-11475-pine-hill-drive-waynesboro-pa-17268
X-ALT-DESC;FMTTYPE=text/html:PINE HILL DR Estate Closing April 28th with Chinese Modern cabinet\; MCM &amp\; Henry LinkBR sets\; Sheraton sofa\; curio\; hall credenza &amp\; mirror\; corner cupboard\; barrister bookcase\; washstand\; wicker fernery\; Fenton\; depression glass\; Hull pottery\; spatterware\; Olive Oyl doll\; collector dolls\; M. Parrish print\; Tom Clark gnomes\; jewelry\; lion still bank\; clocks\; crocks\; jug\; washbowl/pitcher sets\; Pyrex\; more.<br />\nPREVIEW: Apr 27\, 4-6pm at 11475 Pine Hill Dr\, Waynesboro PA 17268&nbsp\;<br />\nVIEW DETAILS: https://bidon.hurleyauctions.com/auctions/376-11475-pine-hill-drive-waynesboro-pa-17268<br />\n<br />\n&nbsp\;
LOCATION:11475 Pine Hill Dr\, Waynesboro PA 17268
UID:e.1180.42649
SEQUENCE:3
DTSTAMP:20260420T180853Z
URL:https://business.cvballiance.org/events/details/pine-hill-dr-estate-closing-april-28th-42649
END:VEVENT

END:VCALENDAR
