BEGIN:VCALENDAR
VERSION:2.0
PRODID:-//ChamberMaster//Event Calendar 2.0//EN
METHOD:PUBLISH
X-PUBLISHED-TTL:P3D
REFRESH-INTERVAL:P3D
CALSCALE:GREGORIAN
BEGIN:VEVENT
DTSTART:20260513T190000Z
DTEND:20260513T200000Z
X-MICROSOFT-CDO-ALLDAYEVENT:FALSE
SUMMARY:RANCHER in the COUNTRY at 375 St Thomas Edenville Rd\, St Thomas PA 17252
DESCRIPTION:BEAUTIFUL RANCHER in the COUNTRY for PUBLIC AUCTION at 375 St Thomas Edenville Rd\, St Thomas PA 17252 on May 13\, 2026 at 3pm. 3-4 BR\, 2.5 bath\, kitchen w/dining area\, LR\, basement w/ FR\, large office & storage/workshop\, oversized 2-car garage\, 2-car carport\, 2 sheds\, & many recent updates. Great location near Rt 30\, shops & more! \n\nOPEN HOUSES: May 2\, 12-1pm & May 9\, 12-1pm  \n\nVIEW DETAILS: https://www.hurleyauctions.com/upcoming-auctions/375-st-thomas-edenville-rd-saint-thomas-pa/
X-ALT-DESC;FMTTYPE=text/html:BEAUTIFUL RANCHER in the COUNTRY for PUBLIC AUCTION at 375 St Thomas Edenville Rd\, St Thomas PA 17252 on May 13\, 2026 at 3pm. 3-4 BR\, 2.5 bath\, kitchen w/dining area\, LR\, basement w/ FR\, large office &amp\; storage/workshop\, oversized 2-car garage\, 2-car carport\, 2 sheds\, &amp\; many recent updates. Great location near Rt 30\, shops &amp\; more!&nbsp\;<br />\nOPEN HOUSES: May 2\, 12-1pm &amp\; May 9\, 12-1pm&nbsp\;&nbsp\;<br />\nVIEW DETAILS: https://www.hurleyauctions.com/upcoming-auctions/375-st-thomas-edenville-rd-saint-thomas-pa/<br />\n<br />\n&nbsp\;
LOCATION:375 St Thomas Edenville Rd\, St Thomas PA 17252
UID:e.1180.42691
SEQUENCE:3
DTSTAMP:20260424T134400Z
URL:https://business.cvballiance.org/events/details/rancher-in-the-country-at-375-st-thomas-edenville-rd-st-thomas-pa-17252-42691
END:VEVENT

END:VCALENDAR
