BEGIN:VCALENDAR
VERSION:2.0
PRODID:-//ChamberMaster//Event Calendar 2.0//EN
METHOD:PUBLISH
X-PUBLISHED-TTL:P3D
REFRESH-INTERVAL:P3D
CALSCALE:GREGORIAN
BEGIN:VEVENT
DTSTART:20260516T140000Z
DTEND:20260516T200000Z
X-MICROSOFT-CDO-ALLDAYEVENT:FALSE
SUMMARY:Sports Card and Memorabilia Auction
DESCRIPTION:Gear up for a fun day of bidding on rare sports cards and cool memorabilia   don't miss out!\n\n\n\nSports Cards and Memorabilia Auction\n\nGet ready for an awesome live auction (online bidding available) where you can score some incredible sports cards and memorabilia! Whether you're a collector or just love the thrill of the hunt\, this auction is the perfect spot to find rare items and connect with fellow fans. Don't miss out on the chance to add some amazing pieces to your collection. See you there!\n\nSPORTS CARDS/MEMORABILIA: Hundreds of vintage baseball\, football\, basketball\, hockey\, boxing\, golf and Olympics cards will be among the 373 lots to be sold\, along with autographed items that include 1956 Brooklyn Dodgers and late 1940s St. Louis Cardinals team balls. Rookie cards include Payton\, Staubach\, Simpson\, Lambert\, Blount\, Yastrzemski\, Palmer\, Jackson\, Munson\, Fisk\, Brett\, Yount\, Henderson\, Ripken\, Mattingly\, Jeter and many more. Mantle cards inc. the rare white letters 1969 Topps. Newer cards inc. Judge\, Ohtani\, Skenes. Set builders will find commons and oddball cards. Also: Tickets to historic Ripken Jr. games\, Nellie Fox photo negatives\, Memorial Stadium seats\, 1977 Topps Cloth baseball set and wax box\, sets\, wrappers.\n\n \n\nUNCATALOGED ITEMS: Uncatalogued sports cards and memorabilia to be sold after cataloged lots. Available to in-house bidders only.\n\n \n\nAUCTIONEER'S NOTE: Online bidding available. Complete listing available online or by phoning (717) 263-6512 and requesting catalog. Many autographed items not authenticated.\n\nPreview: Friday\, May 15\, 2026 from 3PM-5PM\n\nTERMS: Cash\, check\, Visa\, MC\, Discover accepted. 15 % Buyer's premium applied to in-house & Live online bidding on GatewayAuction.com\, discounted to 10% for cash or good check. Buyers responsible for all shipping costs. Statements made day of sale take precedence.
X-ALT-DESC;FMTTYPE=text/html:<div>Gear up for a fun day of bidding on rare sports cards and cool memorabilia &ndash\; don&rsquo\;t miss out!</div>\n\n<div>\n<div>\n<h2>Sports Cards and Memorabilia Auction</h2>\n\n<p>Get ready for an awesome live auction (online bidding available) where you can score some incredible sports cards and memorabilia! Whether you&rsquo\;re a collector or just love the thrill of the hunt\, this auction is the perfect spot to find rare items and connect with fellow fans. Don&rsquo\;t miss out on the chance to add some amazing pieces to your collection. See you there!</p>\n\n<p>SPORTS CARDS/MEMORABILIA:&nbsp\;Hundreds of vintage baseball\, football\, basketball\, hockey\, boxing\, golf and Olympics cards will be among the 373 lots to be sold\, along with autographed items that include 1956 Brooklyn Dodgers and late 1940s St. Louis Cardinals team balls. Rookie cards include Payton\, Staubach\, Simpson\, Lambert\, Blount\, Yastrzemski\, Palmer\, Jackson\, Munson\, Fisk\, Brett\, Yount\, Henderson\, Ripken\, Mattingly\, Jeter and many more. Mantle cards inc. the rare white letters 1969 Topps. Newer cards inc. Judge\, Ohtani\, Skenes. Set builders will find commons and oddball cards. Also: Tickets to historic Ripken Jr. games\, Nellie Fox photo negatives\, Memorial Stadium seats\, 1977 Topps Cloth baseball set and wax box\, sets\, wrappers.</p>\n\n<p>&nbsp\;</p>\n\n<p>UNCATALOGED ITEMS:&nbsp\;Uncatalogued&nbsp\;sports&nbsp\;cards and memorabilia to be sold after cataloged lots.&nbsp\;<em>Available to in-house bidders only</em>.</p>\n\n<p>&nbsp\;</p>\n\n<p>AUCTIONEER&rsquo\;S NOTE:&nbsp\;Online bidding available. Complete listing available online or by phoning (717) 263-6512 and requesting catalog. Many autographed items not authenticated.</p>\n\n<p style="text-align: center\;"><strong>Preview: Friday\, May 15\, 2026 from 3PM-5PM</strong></p>\n\n<p>TERMS: Cash\, check\, Visa\, MC\, Discover accepted.&nbsp\;15 % Buyer&rsquo\;s premium&nbsp\;applied to in-house &amp\; Live online bidding on GatewayAuction.com\, discounted to 10% for cash or good check. Buyers responsible for all shipping costs. Statements made day of sale take precedence.</p>\n</div>\n</div>\n
LOCATION:Gateway Gallery Auction 643 Kriner Road Chambersburg\, PA www.GatewayAuction.com
UID:e.1180.42631
SEQUENCE:3
DTSTAMP:20260419T151521Z
URL:https://business.cvballiance.org/events/details/sports-card-and-memorabilia-auction-05-16-2026-42631
END:VEVENT

END:VCALENDAR
