BEGIN:VCALENDAR
VERSION:2.0
PRODID:-//ChamberMaster//Event Calendar 2.0//EN
METHOD:PUBLISH
X-PUBLISHED-TTL:P3D
REFRESH-INTERVAL:P3D
CALSCALE:GREGORIAN
BEGIN:VEVENT
DTSTART:20260502T210000Z
DTEND:20260503T000000Z
X-MICROSOFT-CDO-ALLDAYEVENT:FALSE
SUMMARY:Talk Derby to Me
DESCRIPTION:This is an exciting event themed around the Kentucky Derby. Last year\, the event brought in more than $21k for Coyle Free Library!!\n\n\n\nIt's a fantastic opportunity to dress up\, celebrate\, and support public libraries in Franklin County. Amazing food\, raffles\, a live auction\, and mint juleps!\n\n\n\nTalk Derby to Me is a fundraiser for Coyle Free Library. All money made from this event goes directly toward the debt owed for the renovation and expansion of Coyle Free Library.
X-ALT-DESC;FMTTYPE=text/html:This is an exciting event themed around the Kentucky Derby. Last year\, the event brought in more than $21k for Coyle Free Library!!<br />\n<br />\nIt&#39\;s a fantastic opportunity to dress up\, celebrate\, and support public libraries in Franklin County. Amazing food\, raffles\, a live auction\, and mint juleps!<br />\n<br />\nTalk Derby to Me is a fundraiser for Coyle Free Library. All money made from this event goes directly toward the debt owed for the renovation and expansion of Coyle Free Library.&nbsp\;<br />\n&nbsp\;
LOCATION:The Life Center at Menno Haven
UID:e.1180.42395
SEQUENCE:3
DTSTAMP:20260423T085918Z
URL:https://business.cvballiance.org/events/details/talk-derby-to-me-05-02-2026-42395
END:VEVENT

END:VCALENDAR
