BEGIN:VCALENDAR
VERSION:2.0
PRODID:-//ChamberMaster//Event Calendar 2.0//EN
METHOD:PUBLISH
X-PUBLISHED-TTL:P3D
REFRESH-INTERVAL:P3D
CALSCALE:GREGORIAN
BEGIN:VEVENT
DTSTART;VALUE=DATE:20260501
DTEND;VALUE=DATE:20260502
TRANSP:TRANSPARENT
X-MICROSOFT-CDO-ALLDAYEVENT:TRUE
SUMMARY:THORNWOOD RD Estate Closing May 1st
DESCRIPTION:THORNWOOD RD Estate Closing May 1st with French Louis XVI Bouillotte style marble top table\; OAK LR/DR/BR furniture\; Emperor tall case clock\; Whiteclad icebox cabinet\; rolltop desk\; Queen Anne & Rococo Revival parlor sets\; patio sets\; cement garden benches\; Frigidaire refrigerator\; GOLD jewelry\; 40+ custom made lighted Shippensburg replica buildings\; 30+Nutcrackers\; 40+rolling pins\; signed artwork   W. Davis\, H. Bentz\, etc\; HUNDREDS of World travel collectibles\; sorrafito art pottery\; tribal masks\; carved artwork\; hand-woven baskets\;  tintypes\;  PRIMITIVES\; cast iron\; J. Carey redware crock\; firkin\; yellowware\; Murano style art glass\; Fenton\; Fire King\; Cutco\; clocks\; MW sewing machine\; marbles\; vintage toys\; Christmas\; Trek mountain bike\; TOOLS\; pressure washer\; tillers\; more.\n\nPREVIEW: Apr 30\, 4-6pm at 11230 Thornwood Rd\,  Shippensburg PA 17257  \n\nVIEW DETAILS: https://bidon.hurleyauctions.com/auctions/406-11230-thornwood-road-shippensburg-pa-17257
X-ALT-DESC;FMTTYPE=text/html:THORNWOOD RD Estate Closing May 1st with French Louis XVI Bouillotte style marble top table\; OAK LR/DR/BR furniture\; Emperor tall case clock\; Whiteclad icebox cabinet\; rolltop desk\; Queen Anne &amp\; Rococo Revival parlor sets\; patio sets\; cement garden benches\; Frigidaire refrigerator\; GOLD jewelry\; 40+ custom made lighted Shippensburg replica buildings\; 30+Nutcrackers\; 40+rolling pins\; signed artwork &ndash\; W. Davis\, H. Bentz\, etc\; HUNDREDS of World travel collectibles\; sorrafito art pottery\; tribal masks\; carved artwork\; hand-woven baskets\;&nbsp\; tintypes\;&nbsp\; PRIMITIVES\; cast iron\; J. Carey redware crock\; firkin\; yellowware\; Murano style art glass\; Fenton\; Fire King\; Cutco\; clocks\; MW sewing machine\; marbles\; vintage toys\; Christmas\; Trek mountain bike\; TOOLS\; pressure washer\; tillers\; more.<br />\nPREVIEW: Apr 30\, 4-6pm at 11230 Thornwood Rd\, &nbsp\;Shippensburg PA 17257&nbsp\;&nbsp\;<br />\nVIEW DETAILS: https://bidon.hurleyauctions.com/auctions/406-11230-thornwood-road-shippensburg-pa-17257<br />\n<br />\n&nbsp\;
LOCATION:11230 Thornwood Rd\, Shippensburg PA 17257
UID:e.1180.42692
SEQUENCE:3
DTSTAMP:20260423T195838Z
URL:https://business.cvballiance.org/events/details/thornwood-rd-estate-closing-may-1st-42692
END:VEVENT

END:VCALENDAR
