BEGIN:VCALENDAR
VERSION:2.0
PRODID:-//ChamberMaster//Event Calendar 2.0//EN
METHOD:PUBLISH
X-PUBLISHED-TTL:P3D
REFRESH-INTERVAL:P3D
CALSCALE:GREGORIAN
BEGIN:VEVENT
DTSTART:20251206T230000Z
DTEND:20251207T020000Z
X-MICROSOFT-CDO-ALLDAYEVENT:FALSE
SUMMARY:Ugly Sweater Contest
DESCRIPTION:Get ready to show off your festive spirit! We're having an ugly holiday sweater contest\, so it's time to dig through your drawers and closets to find the "best" of your worst holiday sweaters. \n\n\n\nIf you don't already own one\, this is your chance to get creative and make your own! Feel free to use anything you can find around the house lights\, tinsel\, bells\, and other decorations to create a truly festive tunic for a night of holiday cheer.\n\n\n\nRob & Mango will be performing. PRIZES WILL BE AWARDED!
X-ALT-DESC;FMTTYPE=text/html:<span style="font-size:16px\;"><span style="font-family:arial\;"><span style="color:#006400\;"><strong><span style="text-align: center\; background-color: rgb(255\, 255\, 255)\;">Get ready to show off your festive spirit! We&rsquo\;re having an ugly holiday sweater contest\, so it&rsquo\;s time to dig through your drawers and closets to find the &ldquo\;best&rdquo\; of your worst holiday sweaters.&nbsp\;<br />\n<br />\nIf you don&rsquo\;t already own one\, this is your chance to get creative and make your own! Feel free to use anything you can find around the house&mdash\;lights\, tinsel\, bells\, and other decorations&mdash\;to create a truly festive tunic for a night of holiday cheer.</span></strong></span><br />\n<br />\n<strong><a href="https://www.facebook.com/profile.php?id=61575247048294"><span style="color:#0000CD\;">Rob &amp\; Mango</span></a>&nbsp\;<span style="color:#B22222\;">will be performing.</span></strong>&nbsp\;<span style="color:#B22222\;"><strong><span style="text-align: center\; background-color: rgb(255\, 255\, 255)\;">PRIZES WILL BE AWARDED!&nbsp\;</span></strong></span></span></span>
LOCATION:Hidden Key Brewing Co. 101 West Baltimore Street\, Greencastle
UID:e.1180.41385
SEQUENCE:3
DTSTAMP:20260426T024153Z
URL:https://business.cvballiance.org/events/details/ugly-sweater-contest-41385
END:VEVENT

END:VCALENDAR
