BEGIN:VCALENDAR
VERSION:2.0
PRODID:-//ChamberMaster//Event Calendar 2.0//EN
METHOD:PUBLISH
X-PUBLISHED-TTL:P3D
REFRESH-INTERVAL:P3D
CALSCALE:GREGORIAN
BEGIN:VEVENT
DTSTART:20260426T150000Z
DTEND:20260426T210000Z
X-MICROSOFT-CDO-ALLDAYEVENT:FALSE
SUMMARY:Winning for WIN BINGO
DESCRIPTION:About Winning for WIN BINGO \n\nWho: 300+ projected event attendees from the community \n\nWhat: This fundraiser is a fun and engaging community event to socialize\, enjoy friendly competition\, and support the important work of WIN Victim Services in assisting survivors. Attendees enjoy an afternoon of classic BINGO games with chances to win exciting prizes\, along with a provided lunch. In addition to BINGO\, guests can participate in small games of chance such as a fishbowl drawing and a 50/50 raffle. \n\nWhere: St. Thomas Township Fire and Rescue Co.\, 34 School House Road\, St. Thomas\, PA 17252 When: Sunday\, April 26\, 2026 from 11am-5 pm (11 am doors open\, 12 pm lunch\, 1 pm games begin) \n\nWhy: This is an important annual fundraiser to help WIN Victim Services carry out its mission to educate\, support\, and empower survivors of abuse. Your sponsorship to our 501(c)(3) nonprofit will serve this mission as we continue providing advocacy\, resources\, and critical support services to individuals and families in our community who are impacted by violence and abuse.
X-ALT-DESC;FMTTYPE=text/html:<p><span style="color:rgb(80\, 3\, 127)\; font-family:arial\,sans-serif\; font-size:13.9997pt">About Winning for WIN BINGO&nbsp\;</span></p>\n\n<p style="margin-left:0.08100128173828125pt"><span style="color:rgb(80\, 3\, 127)\; font-family:arial\,sans-serif\; font-size:10.9997pt">Who: </span><span style="font-family:arial\,sans-serif\; font-size:10.9997pt">300+ projected event attendees from the community&nbsp\;</span></p>\n\n<p style="margin-left:0.08100128173828125pt\; margin-right:23.055419921875pt"><span style="color:rgb(80\, 3\, 127)\; font-family:arial\,sans-serif\; font-size:10.9997pt">What: </span><span style="font-family:arial\,sans-serif\; font-size:10.9997pt">This fundraiser is a fun and engaging community event to socialize\, enjoy friendly competition\, and support the important work of WIN Victim Services in assisting survivors. Attendees enjoy an afternoon of classic BINGO games with chances to win exciting prizes\, along with a provided lunch. In addition to BINGO\, guests can participate in small games of chance such as a fishbowl drawing and a 50/50 raffle.&nbsp\;</span></p>\n\n<p style="margin-left:0.08100128173828125pt\; margin-right:61.64874267578125pt"><span style="color:rgb(80\, 3\, 127)\; font-family:arial\,sans-serif\; font-size:10.9997pt">Where: </span><span style="font-family:arial\,sans-serif\; font-size:10.9997pt">St. Thomas Township Fire and Rescue Co.\, 34 School House Road\, St. Thomas\, PA 17252 </span><span style="color:rgb(80\, 3\, 127)\; font-family:arial\,sans-serif\; font-size:10.9997pt">When: </span><span style="font-family:arial\,sans-serif\; font-size:10.9997pt">Sunday\, April 26\, 2026 from 11am-5 pm (11 am doors open\, 12 pm lunch\, 1 pm games begin)&nbsp\;</span></p>\n\n<p style="margin-left:-0.08399200439453125pt\; margin-right:35.10626220703125pt"><span style="color:rgb(80\, 3\, 127)\; font-family:arial\,sans-serif\; font-size:10.9997pt">Why: </span><span style="font-family:arial\,sans-serif\; font-size:10.9997pt">This is an important annual fundraiser to help WIN Victim Services carry out its mission to educate\, support\, and empower survivors of abuse. Your sponsorship to our 501(c)(3) nonprofit will serve this mission as we continue providing advocacy\, resources\, and critical support services to individuals and families in our community who are impacted by violence and abuse.&nbsp\;</span></p>\n\n<div>&nbsp\;</div>\n
LOCATION:
UID:e.1180.42693
SEQUENCE:3
DTSTAMP:20260424T151325Z
URL:https://business.cvballiance.org/events/details/winning-for-win-bingo-42693
END:VEVENT

END:VCALENDAR
