BEGIN:VCALENDAR
VERSION:2.0
PRODID:-//ChamberMaster//Event Calendar 2.0//EN
METHOD:PUBLISH
X-PUBLISHED-TTL:P3D
REFRESH-INTERVAL:P3D
CALSCALE:GREGORIAN
BEGIN:VEVENT
DTSTART;VALUE=DATE:20211127
DTEND;VALUE=DATE:20211128
TRANSP:TRANSPARENT
X-MICROSOFT-CDO-ALLDAYEVENT:TRUE
SUMMARY:G-A Small Business Saturday
DESCRIPTION:Shop local at Greencastle-Antrim's many small businesses on Small Business Saturday\, sponsored by McCrea Heating & Air Services.\n\n\n\nClick here to view the Chamber business directory.\n\n\n\nSHOP SMALL SWEEPSTAKES:\nKick-off (or finish up!) your Christmas shopping at Chamber member businesses between November 20 and December 17 for chances to win cash prizes!\n\nTo enter: make purchases at five different Chamber member businesses\; fill out a Shop Small ticket\; and bring your receipts and ticket to the Greencastle-Antrim Chamber.\n\nShop Small tickets are available at the G-ACC\, at the Holiday House during Heritage Christmas and at local businesses\, or you can download a ticket HERE.\n\nReceipts will be returned after entering. Winners will be drawn on December 20.
X-ALT-DESC;FMTTYPE=text/html:Shop local at Greencastle-Antrim&#39\;s many small businesses on Small Business Saturday\, sponsored by McCrea Heating &amp\; Air Services.<br />\n<br />\n<a href="https://business.cvballiance.org/list">Click here to view the Chamber business directory.</a><br />\n<br />\nSHOP SMALL SWEEPSTAKES:\n<p style="box-sizing: border-box\; margin: 0px\; padding: 0px 0px 27px\; border: 0px\; font-variant-numeric: inherit\; font-variant-east-asian: inherit\; font-stretch: inherit\; font-size: 16px\; line-height: inherit\; font-family: &quot\;Open Sans&quot\;\; vertical-align: baseline\; -webkit-font-smoothing: antialiased\; color: rgb(103\, 103\, 103)\;"><span style="box-sizing: border-box\; margin: 0px\; padding: 0px\; border: 0px\; font-style: inherit\; font-variant: inherit\; font-stretch: inherit\; font-size: inherit\; line-height: inherit\; font-family: inherit\; vertical-align: baseline\;">Kick-off (or finish up!) your Christmas shopping at Chamber member businesses between November 20 and December 17 for chances to win cash prizes!</span></p>\n\n<p style="box-sizing: border-box\; margin: 0px\; padding: 0px 0px 27px\; border: 0px\; font-variant-numeric: inherit\; font-variant-east-asian: inherit\; font-stretch: inherit\; font-size: 16px\; line-height: inherit\; font-family: &quot\;Open Sans&quot\;\; vertical-align: baseline\; -webkit-font-smoothing: antialiased\; color: rgb(103\, 103\, 103)\;"><span style="box-sizing: border-box\; margin: 0px\; padding: 0px\; border: 0px\; font-style: inherit\; font-variant: inherit\; font-stretch: inherit\; font-size: inherit\; line-height: inherit\; font-family: inherit\; vertical-align: baseline\;">To enter: make purchases at five different Chamber member businesses\; fill out a Shop Small ticket\; and bring your receipts and ticket to the Greencastle-Antrim Chamber.</span></p>\n\n<p style="box-sizing: border-box\; margin: 0px\; padding: 0px 0px 27px\; border: 0px\; font-variant-numeric: inherit\; font-variant-east-asian: inherit\; font-stretch: inherit\; font-size: 16px\; line-height: inherit\; font-family: &quot\;Open Sans&quot\;\; vertical-align: baseline\; -webkit-font-smoothing: antialiased\; color: rgb(103\, 103\, 103)\;"><span style="box-sizing: border-box\; margin: 0px\; padding: 0px\; border: 0px\; font-style: inherit\; font-variant: inherit\; font-stretch: inherit\; font-size: inherit\; line-height: inherit\; font-family: inherit\; vertical-align: baseline\;">Shop Small tickets are available at the G-ACC\, at the Holiday House during Heritage Christmas and at local businesses\, or you can <a href="https://chambermaster.blob.core.windows.net/userfiles/UserFiles/chambers/1180/File/Shop_Small_Sweepstakes-(1).PNG">download a ticket HERE</a>.</span></p>\n\n<p style="box-sizing: border-box\; margin: 0px\; padding: 0px\; border: 0px\; font-variant-numeric: inherit\; font-variant-east-asian: inherit\; font-stretch: inherit\; font-size: 16px\; line-height: inherit\; font-family: &quot\;Open Sans&quot\;\; vertical-align: baseline\; -webkit-font-smoothing: antialiased\; color: rgb(103\, 103\, 103)\;"><span style="box-sizing: border-box\; margin: 0px\; padding: 0px\; border: 0px\; font-style: inherit\; font-variant: inherit\; font-stretch: inherit\; font-size: inherit\; line-height: inherit\; font-family: inherit\; vertical-align: baseline\;">Receipts will be returned after entering. Winners will be drawn on December 20.</span></p>\n
LOCATION:Local small businesses
UID:e.1180.34338
SEQUENCE:3
DTSTAMP:20260421T053157Z
URL:https://business.cvballiance.org/events/details/g-a-small-business-saturday-34338
END:VEVENT

END:VCALENDAR
